BEGIN:VCALENDAR
VERSION:2.0
PRODID:-//Daviess County Fish and Game - ECPv6.15.20//NONSGML v1.0//EN
CALSCALE:GREGORIAN
METHOD:PUBLISH
X-WR-CALNAME:Daviess County Fish and Game
X-ORIGINAL-URL:https://daviesscountyfishandgame.com
X-WR-CALDESC:Events for Daviess County Fish and Game
REFRESH-INTERVAL;VALUE=DURATION:PT1H
X-Robots-Tag:noindex
X-PUBLISHED-TTL:PT1H
BEGIN:VTIMEZONE
TZID:America/Chicago
BEGIN:DAYLIGHT
TZOFFSETFROM:-0600
TZOFFSETTO:-0500
TZNAME:CDT
DTSTART:20240310T080000
END:DAYLIGHT
BEGIN:STANDARD
TZOFFSETFROM:-0500
TZOFFSETTO:-0600
TZNAME:CST
DTSTART:20241103T070000
END:STANDARD
BEGIN:DAYLIGHT
TZOFFSETFROM:-0600
TZOFFSETTO:-0500
TZNAME:CDT
DTSTART:20250309T080000
END:DAYLIGHT
BEGIN:STANDARD
TZOFFSETFROM:-0500
TZOFFSETTO:-0600
TZNAME:CST
DTSTART:20251102T070000
END:STANDARD
BEGIN:DAYLIGHT
TZOFFSETFROM:-0600
TZOFFSETTO:-0500
TZNAME:CDT
DTSTART:20260308T080000
END:DAYLIGHT
BEGIN:STANDARD
TZOFFSETFROM:-0500
TZOFFSETTO:-0600
TZNAME:CST
DTSTART:20261101T070000
END:STANDARD
END:VTIMEZONE
BEGIN:VEVENT
DTSTART;VALUE=DATE:20250315
DTEND;VALUE=DATE:20250316
DTSTAMP:20260419T075913
CREATED:20250305T214349Z
LAST-MODIFIED:20250305T214349Z
UID:407-1741996800-1742083199@daviesscountyfishandgame.com
SUMMARY:Work Day
DESCRIPTION:This will be our 2nd work day. Please come help us get ready to open the campgrounds. We need all the help we can get. Please meet at 8am at the big garage and a director will tell you where to start. \n  \nthanks!
URL:https://daviesscountyfishandgame.com/event/work-day/
END:VEVENT
BEGIN:VEVENT
DTSTART;VALUE=DATE:20250315
DTEND;VALUE=DATE:20250316
DTSTAMP:20260419T075913
CREATED:20250305T214450Z
LAST-MODIFIED:20250305T214450Z
UID:409-1741996800-1742083199@daviesscountyfishandgame.com
SUMMARY:Hunter's Education Class
DESCRIPTION:We are hosting the Hunter’s Education class\, please use the link on our Facebook to register for this event. \n  \nthank you!
URL:https://daviesscountyfishandgame.com/event/hunters-education-class/
END:VEVENT
END:VCALENDAR